BEGIN:VCALENDAR
VERSION:2.0
PRODID:-//Racine Kenosha Builders Association - ECPv6.15.18//NONSGML v1.0//EN
CALSCALE:GREGORIAN
METHOD:PUBLISH
X-WR-CALNAME:Racine Kenosha Builders Association
X-ORIGINAL-URL:https://rkbabuilders.com
X-WR-CALDESC:Events for Racine Kenosha Builders Association
REFRESH-INTERVAL;VALUE=DURATION:PT1H
X-Robots-Tag:noindex
X-PUBLISHED-TTL:PT1H
BEGIN:VTIMEZONE
TZID:America/Chicago
BEGIN:DAYLIGHT
TZOFFSETFROM:-0600
TZOFFSETTO:-0500
TZNAME:CDT
DTSTART:20250309T080000
END:DAYLIGHT
BEGIN:STANDARD
TZOFFSETFROM:-0500
TZOFFSETTO:-0600
TZNAME:CST
DTSTART:20251102T070000
END:STANDARD
BEGIN:DAYLIGHT
TZOFFSETFROM:-0600
TZOFFSETTO:-0500
TZNAME:CDT
DTSTART:20260308T080000
END:DAYLIGHT
BEGIN:STANDARD
TZOFFSETFROM:-0500
TZOFFSETTO:-0600
TZNAME:CST
DTSTART:20261101T070000
END:STANDARD
BEGIN:DAYLIGHT
TZOFFSETFROM:-0600
TZOFFSETTO:-0500
TZNAME:CDT
DTSTART:20270314T080000
END:DAYLIGHT
BEGIN:STANDARD
TZOFFSETFROM:-0500
TZOFFSETTO:-0600
TZNAME:CST
DTSTART:20271107T070000
END:STANDARD
END:VTIMEZONE
BEGIN:VEVENT
DTSTART;TZID=America/Chicago:20260318T083000
DTEND;TZID=America/Chicago:20260318T150000
DTSTAMP:20260419T114638
CREATED:20260223T175532Z
LAST-MODIFIED:20260223T175532Z
UID:2455-1773822600-1773846000@rkbabuilders.com
SUMMARY:Education Day
DESCRIPTION:Wednesday\, March 18 | 8:30 AM – 3:00 PM\n📍 TinCAN Roadhouse – Union Grove \nRKBA\, LBA\, and Build My Future SE WI are teaming up for a powerful day of professional development at TinCAN Roadhouse in Union Grove! \nJoin us for an engaging event featuring multiple industry experts leading sessions designed to: \n\nInform you of local industry trends\nStrengthen your professional skills\nDeliver valuable CE credits\n\nRegistration Fees \n\n$35 – Members\n$50 – Non-members\n\n🗓 Register by Thursday\, March 12 \nYour registration includes: \n\nEducational presentations\nContinental breakfast\nLunch\nSoda\, lemonade\, iced tea\, and water\n\nFor more information and to register\, please visit:\nSpring Event Info | Build My Talent SE WI
URL:https://rkbabuilders.com/event/education-day/
LOCATION:TinCAN Roadhouse\, 20715 Durand Ave\, Union Grove\, 53182\, United States
END:VEVENT
END:VCALENDAR