BEGIN:VCALENDAR
VERSION:2.0
PRODID:-//Racine Kenosha Builders Association - ECPv6.15.18//NONSGML v1.0//EN
CALSCALE:GREGORIAN
METHOD:PUBLISH
X-WR-CALNAME:Racine Kenosha Builders Association
X-ORIGINAL-URL:https://rkbabuilders.com
X-WR-CALDESC:Events for Racine Kenosha Builders Association
REFRESH-INTERVAL;VALUE=DURATION:PT1H
X-Robots-Tag:noindex
X-PUBLISHED-TTL:PT1H
BEGIN:VTIMEZONE
TZID:America/Chicago
BEGIN:DAYLIGHT
TZOFFSETFROM:-0600
TZOFFSETTO:-0500
TZNAME:CDT
DTSTART:20250309T080000
END:DAYLIGHT
BEGIN:STANDARD
TZOFFSETFROM:-0500
TZOFFSETTO:-0600
TZNAME:CST
DTSTART:20251102T070000
END:STANDARD
BEGIN:DAYLIGHT
TZOFFSETFROM:-0600
TZOFFSETTO:-0500
TZNAME:CDT
DTSTART:20260308T080000
END:DAYLIGHT
BEGIN:STANDARD
TZOFFSETFROM:-0500
TZOFFSETTO:-0600
TZNAME:CST
DTSTART:20261101T070000
END:STANDARD
BEGIN:DAYLIGHT
TZOFFSETFROM:-0600
TZOFFSETTO:-0500
TZNAME:CDT
DTSTART:20270314T080000
END:DAYLIGHT
BEGIN:STANDARD
TZOFFSETFROM:-0500
TZOFFSETTO:-0600
TZNAME:CST
DTSTART:20271107T070000
END:STANDARD
END:VTIMEZONE
BEGIN:VEVENT
DTSTART;TZID=America/Chicago:20260608T110000
DTEND;TZID=America/Chicago:20260608T180000
DTSTAMP:20260419T210234
CREATED:20260402T210603Z
LAST-MODIFIED:20260402T221825Z
UID:2518-1780916400-1780941600@rkbabuilders.com
SUMMARY:2026 RKBA Golf Outing - Kenosha Country Club
DESCRIPTION:Registration: 11:00 AM\nScramble Start: 12:00 PM sharp\nCost: $175.00 ea. or $50.00 ea. for dinner only \nMembers & Guests only please. \nBased on member feedback\, we’ve decided to go back to Kenosha Country Club for the second year! This schedule allows you to start your day at the office before heading to the course. \nSpots are limited to 144 golfers\, so be sure to reserve your spot ASAP. Please note that reservations will only be accepted with payment. We sold out last year in 3 weeks so reserve early. \n⚠️ Dress Code Reminder (strictly enforced by Kenosha Country Club): \n\nNot Allowed: Jeans\, cut-offs\, denim\, t-shirts\, or halter tops\nRequired: Golf shirts with sleeves and a collar; shorts must be no shorter than a fist above the knee\nFootwear: Non-metal spike golf shoes or tennis shoes are permitted\n\nDon’t miss out on this fantastic event—secure your spot today \nCOMPLETE REGISTRATION FORM HERE AND RETURN PAYMENT TO: \nRKBA\, PO Box 706\, Sturtevant\, WI 53177\nMichelle Dawson\, info@rkbabuilders.com \n 
URL:https://rkbabuilders.com/event/2026-rkba-golf-outing-kenosha-country-club/
LOCATION:Kenosha Country Club\, 500 13th Avenue P.O. Box 249\, Kenosha\, Wisconsin\, 53141
END:VEVENT
END:VCALENDAR