BEGIN:VCALENDAR
VERSION:2.0
PRODID:-//Racine Kenosha Builders Association - ECPv6.15.18//NONSGML v1.0//EN
CALSCALE:GREGORIAN
METHOD:PUBLISH
X-WR-CALNAME:Racine Kenosha Builders Association
X-ORIGINAL-URL:https://rkbabuilders.com
X-WR-CALDESC:Events for Racine Kenosha Builders Association
REFRESH-INTERVAL;VALUE=DURATION:PT1H
X-Robots-Tag:noindex
X-PUBLISHED-TTL:PT1H
BEGIN:VTIMEZONE
TZID:America/Chicago
BEGIN:DAYLIGHT
TZOFFSETFROM:-0600
TZOFFSETTO:-0500
TZNAME:CDT
DTSTART:20240310T080000
END:DAYLIGHT
BEGIN:STANDARD
TZOFFSETFROM:-0500
TZOFFSETTO:-0600
TZNAME:CST
DTSTART:20241103T070000
END:STANDARD
BEGIN:DAYLIGHT
TZOFFSETFROM:-0600
TZOFFSETTO:-0500
TZNAME:CDT
DTSTART:20250309T080000
END:DAYLIGHT
BEGIN:STANDARD
TZOFFSETFROM:-0500
TZOFFSETTO:-0600
TZNAME:CST
DTSTART:20251102T070000
END:STANDARD
BEGIN:DAYLIGHT
TZOFFSETFROM:-0600
TZOFFSETTO:-0500
TZNAME:CDT
DTSTART:20260308T080000
END:DAYLIGHT
BEGIN:STANDARD
TZOFFSETFROM:-0500
TZOFFSETTO:-0600
TZNAME:CST
DTSTART:20261101T070000
END:STANDARD
END:VTIMEZONE
BEGIN:VEVENT
DTSTART;TZID=America/Chicago:20250821T160000
DTEND;TZID=America/Chicago:20250821T183000
DTSTAMP:20260419T214422
CREATED:20250422T202658Z
LAST-MODIFIED:20250428T150737Z
UID:1438-1755792000-1755801000@rkbabuilders.com
SUMMARY:D’s Barn
DESCRIPTION:Axe throwing\, arcade games\, pool….
URL:https://rkbabuilders.com/event/ds-barn/
LOCATION:D’s Barn\, 8025 128th Ave.\, Bristol\, Wisconsin\, 53104
END:VEVENT
BEGIN:VEVENT
DTSTART;TZID=America/Chicago:20250805T183500
DTEND;TZID=America/Chicago:20250805T220000
DTSTAMP:20260419T214422
CREATED:20250422T202236Z
LAST-MODIFIED:20250428T150737Z
UID:1434-1754418900-1754431200@rkbabuilders.com
SUMMARY:Kingfish Game
DESCRIPTION:
URL:https://rkbabuilders.com/event/kingfish-game/
LOCATION:Kenosha Kingfish\, 7817 Sheridan Rd.\, Kenosha\, Wisconsin\, 53143
END:VEVENT
BEGIN:VEVENT
DTSTART;TZID=America/Chicago:20250723T113000
DTEND;TZID=America/Chicago:20250723T130000
DTSTAMP:20260419T214422
CREATED:20250422T201444Z
LAST-MODIFIED:20250428T150737Z
UID:1430-1753270200-1753275600@rkbabuilders.com
SUMMARY:General Membership Meeting
DESCRIPTION:Speaker TBD.
URL:https://rkbabuilders.com/event/general-membership-meeting/
END:VEVENT
BEGIN:VEVENT
DTSTART;VALUE=DATE:20250626
DTEND;VALUE=DATE:20250627
DTSTAMP:20260419T214422
CREATED:20250422T201333Z
LAST-MODIFIED:20250428T150737Z
UID:1427-1750896000-1750982399@rkbabuilders.com
SUMMARY:Bliffert Lumber - Member Mingle
DESCRIPTION:Bliffert Lumber\, Member Mingle showcasing a remodel. (Time to be determined)
URL:https://rkbabuilders.com/event/bliffert-lumber-member-mingle/
END:VEVENT
BEGIN:VEVENT
DTSTART;VALUE=DATE:20250618
DTEND;VALUE=DATE:20250619
DTSTAMP:20260419T214422
CREATED:20250422T201245Z
LAST-MODIFIED:20250428T150737Z
UID:1424-1750204800-1750291199@rkbabuilders.com
SUMMARY:Habitat Build Day
DESCRIPTION:
URL:https://rkbabuilders.com/event/habitat-build-day/
END:VEVENT
BEGIN:VEVENT
DTSTART;VALUE=DATE:20250609
DTEND;VALUE=DATE:20250610
DTSTAMP:20260419T214422
CREATED:20250422T200717Z
LAST-MODIFIED:20250428T150737Z
UID:1420-1749427200-1749513599@rkbabuilders.com
SUMMARY:Golf Outing - Kenosha Country Club
DESCRIPTION:
URL:https://rkbabuilders.com/event/golf-outing-kenosha-country-club/
LOCATION:Kenosha Country Club\, 500 13th Avenue P.O. Box 249\, Kenosha\, Wisconsin\, 53141
END:VEVENT
END:VCALENDAR