BEGIN:VCALENDAR
VERSION:2.0
PRODID:-//Racine Kenosha Builders Association - ECPv6.15.18//NONSGML v1.0//EN
CALSCALE:GREGORIAN
METHOD:PUBLISH
X-ORIGINAL-URL:https://rkbabuilders.com
X-WR-CALDESC:Events for Racine Kenosha Builders Association
REFRESH-INTERVAL;VALUE=DURATION:PT1H
X-Robots-Tag:noindex
X-PUBLISHED-TTL:PT1H
BEGIN:VTIMEZONE
TZID:America/Chicago
BEGIN:DAYLIGHT
TZOFFSETFROM:-0600
TZOFFSETTO:-0500
TZNAME:CDT
DTSTART:20240310T080000
END:DAYLIGHT
BEGIN:STANDARD
TZOFFSETFROM:-0500
TZOFFSETTO:-0600
TZNAME:CST
DTSTART:20241103T070000
END:STANDARD
BEGIN:DAYLIGHT
TZOFFSETFROM:-0600
TZOFFSETTO:-0500
TZNAME:CDT
DTSTART:20250309T080000
END:DAYLIGHT
BEGIN:STANDARD
TZOFFSETFROM:-0500
TZOFFSETTO:-0600
TZNAME:CST
DTSTART:20251102T070000
END:STANDARD
BEGIN:DAYLIGHT
TZOFFSETFROM:-0600
TZOFFSETTO:-0500
TZNAME:CDT
DTSTART:20260308T080000
END:DAYLIGHT
BEGIN:STANDARD
TZOFFSETFROM:-0500
TZOFFSETTO:-0600
TZNAME:CST
DTSTART:20261101T070000
END:STANDARD
END:VTIMEZONE
BEGIN:VEVENT
DTSTART;VALUE=DATE:20251008
DTEND;VALUE=DATE:20251010
DTSTAMP:20260419T191536
CREATED:20250422T204001Z
LAST-MODIFIED:20250428T152538Z
UID:1446-1759881600-1760054399@rkbabuilders.com
SUMMARY:Build My Future SE Wisconsin
DESCRIPTION:An Interactive Day In the Trades​ \nBuild My Future SE WI is an unforgettable\, hands-on experience that opens the door to the world of skilled construction trades for both high school and middle school students. \n​This dynamic event is brought to life through a powerful partnership between the Lakeland Builders Association and the Racine Kenosha Builders Association\, and it all comes together thanks to the incredible generosity of our sponsors and the high energy and dedication of our passionate exhibitors. \n​Public schools\, private schools and home school students are encouraged to attend. All students register through their school.
URL:https://rkbabuilders.com/event/build-my-future-se-wisconsin/
LOCATION:Racine County Fairgrounds\, 19805 Durand Ave.\, Union Grove\, Wisconsin\, 53182
END:VEVENT
BEGIN:VEVENT
DTSTART;TZID=America/Chicago:20251022T113000
DTEND;TZID=America/Chicago:20251022T130000
DTSTAMP:20260419T191536
CREATED:20250422T204557Z
LAST-MODIFIED:20250428T150737Z
UID:1450-1761132600-1761138000@rkbabuilders.com
SUMMARY:Parade of Homes Awards
DESCRIPTION:Speaker Brad Boycks.
URL:https://rkbabuilders.com/event/parade-of-homes-awards/
LOCATION:Wisconsin
END:VEVENT
END:VCALENDAR