BEGIN:VCALENDAR
VERSION:2.0
PRODID:-//Racine Kenosha Builders Association - ECPv6.15.18//NONSGML v1.0//EN
CALSCALE:GREGORIAN
METHOD:PUBLISH
X-ORIGINAL-URL:https://rkbabuilders.com
X-WR-CALDESC:Events for Racine Kenosha Builders Association
REFRESH-INTERVAL;VALUE=DURATION:PT1H
X-Robots-Tag:noindex
X-PUBLISHED-TTL:PT1H
BEGIN:VTIMEZONE
TZID:America/Chicago
BEGIN:DAYLIGHT
TZOFFSETFROM:-0600
TZOFFSETTO:-0500
TZNAME:CDT
DTSTART:20240310T080000
END:DAYLIGHT
BEGIN:STANDARD
TZOFFSETFROM:-0500
TZOFFSETTO:-0600
TZNAME:CST
DTSTART:20241103T070000
END:STANDARD
BEGIN:DAYLIGHT
TZOFFSETFROM:-0600
TZOFFSETTO:-0500
TZNAME:CDT
DTSTART:20250309T080000
END:DAYLIGHT
BEGIN:STANDARD
TZOFFSETFROM:-0500
TZOFFSETTO:-0600
TZNAME:CST
DTSTART:20251102T070000
END:STANDARD
BEGIN:DAYLIGHT
TZOFFSETFROM:-0600
TZOFFSETTO:-0500
TZNAME:CDT
DTSTART:20260308T080000
END:DAYLIGHT
BEGIN:STANDARD
TZOFFSETFROM:-0500
TZOFFSETTO:-0600
TZNAME:CST
DTSTART:20261101T070000
END:STANDARD
END:VTIMEZONE
BEGIN:VEVENT
DTSTART;TZID=America/Chicago:20251204T170000
DTEND;TZID=America/Chicago:20251204T200000
DTSTAMP:20260419T153306
CREATED:20251111T172309Z
LAST-MODIFIED:20251111T173028Z
UID:2172-1764867600-1764878400@rkbabuilders.com
SUMMARY:2025 RKBA Installation Banquet
DESCRIPTION:We are pleased to invite you to this special event celebrating the dedication and leadership of our Board of Directors and Committee Members\, and welcoming the incoming Officers for 2026. The evening will also include recognition of outstanding achievements and presentation of this year’s awards. \nAs a reminder\, your membership with the Racine Kenosha Builders Association (RKBA) is a 3-in-1 membership\, meaning you are also part of the Wisconsin Builders Association (WBA) and the National Association of Home Builders (NAHB) \nSupport Toys for Tots \nFor 19 years\, our Association has proudly supported the Marine Corps Toys for Tots program — and we hope to make 2025 our biggest year yet! \nBring a new\, unwrapped toy valued at $10 or more to the banquet and receive a wristband for open bar access from 5:00–6:30 PM. \nDinner will be served at 6:30 PM\, followed by the evening’s program. Thank you for helping us make this year’s toy drive a success! \nSponsorship Opportunities \nWe are also seeking sponsors to help make this event memorable. If you’re interested in sponsoring\, please contact Michelle. Sponsorship options are listed on the attached sheet. \nBanquet Details \n\nDate: Tuesday\, December 4\, 2025\nTime: Open Bar 5:00–6:30 PM | Dinner 6:30 PM | Program to follow\nLocation: Fountain Banquet Hall\n8505 Durand Ave\, Sturtevant\, WI 53177\n\nPlease  RSVP by Friday\, November 15\, 2025 by calling Michelle. \nWe look forward to celebrating with you at the Installation Banquet! The continued strength and success of our Association depend on the involvement and support of members like you. Let’s come together to honor those who have led — and those who will lead us into 2026. \nIf you have any questions\, please contact Michelle Dawson at 262-886-5901. \nThank you for your continued support!
URL:https://rkbabuilders.com/event/2025-rkba-installation-banquet/
LOCATION:Fountain Banquet Hall\, 8505 Durand Ave.\, Sturtevant\, Wisconsin\, 53177
END:VEVENT
END:VCALENDAR