BEGIN:VCALENDAR
VERSION:2.0
PRODID:-//Racine Kenosha Builders Association - ECPv6.15.18//NONSGML v1.0//EN
CALSCALE:GREGORIAN
METHOD:PUBLISH
X-WR-CALNAME:Racine Kenosha Builders Association
X-ORIGINAL-URL:https://rkbabuilders.com
X-WR-CALDESC:Events for Racine Kenosha Builders Association
REFRESH-INTERVAL;VALUE=DURATION:PT1H
X-Robots-Tag:noindex
X-PUBLISHED-TTL:PT1H
BEGIN:VTIMEZONE
TZID:America/Chicago
BEGIN:DAYLIGHT
TZOFFSETFROM:-0600
TZOFFSETTO:-0500
TZNAME:CDT
DTSTART:20250309T080000
END:DAYLIGHT
BEGIN:STANDARD
TZOFFSETFROM:-0500
TZOFFSETTO:-0600
TZNAME:CST
DTSTART:20251102T070000
END:STANDARD
BEGIN:DAYLIGHT
TZOFFSETFROM:-0600
TZOFFSETTO:-0500
TZNAME:CDT
DTSTART:20260308T080000
END:DAYLIGHT
BEGIN:STANDARD
TZOFFSETFROM:-0500
TZOFFSETTO:-0600
TZNAME:CST
DTSTART:20261101T070000
END:STANDARD
BEGIN:DAYLIGHT
TZOFFSETFROM:-0600
TZOFFSETTO:-0500
TZNAME:CDT
DTSTART:20270314T080000
END:DAYLIGHT
BEGIN:STANDARD
TZOFFSETFROM:-0500
TZOFFSETTO:-0600
TZNAME:CST
DTSTART:20271107T070000
END:STANDARD
END:VTIMEZONE
BEGIN:VEVENT
DTSTART;TZID=America/Chicago:20260121T113000
DTEND;TZID=America/Chicago:20260121T130000
DTSTAMP:20260419T133304
CREATED:20260102T172829Z
LAST-MODIFIED:20260102T172949Z
UID:2271-1768995000-1769000400@rkbabuilders.com
SUMMARY:RKBA General Membership Meeting
DESCRIPTION:Guest Speaker: Josh Schoemann – Washington County Executive and Republican Candidate for Governor of Wisconsin \nJosh Schoemann is a seventh-generation resident of Washington County\, a conservative reformer\, and a proud husband\, father\, veteran\, and public servant. His journey has taken him from dishwasher to school janitor\, from track athlete to county executive\, and from a young National Guard enlistee to deployment in Iraq. \nAfter returning from service\, Josh dedicated his career to serving people\, not politics. As County Executive\, he has: \n\nCut taxes to historic lows\nReduced government staff by nearly 25%\nInvested smartly in roads\, public safety\, mental health\, and housing\n\nJosh will share insights on his Next Generation Housing Project in Washington County and his vision as Governor to reduce housing regulation andimprove housing affordability across Wisconsin. \nSponsorship opportunities are available – please contact Michelle for details. \nPlease  RSVP by January 14\, 2026 to Michelle via email at info@rkbabuilders.com.
URL:https://rkbabuilders.com/event/rkba-general-membership-meeting/
LOCATION:Roma Lodge\, 7130 Spring Street\, Racine\, 53406\, United States
END:VEVENT
END:VCALENDAR